BEGIN:VCALENDAR
VERSION:2.0
METHOD:PUBLISH
BEGIN:VEVENT
UID:WILD_APRICOT_EVENT_1870917_SESSION_1
DTSTART:20150320T230000Z
DTEND:20150321T050000Z
SUMMARY:Professional Development Opportunity: AGTA and GTAQ Mini Conference
LOCATION:St Margaret’s Anglican Girls School – 11 Petrie Street\, Ascot
DESCRIPTION:http://gtaq.com.au/event-1870917\n\nAttention all GTAQ Members and Geographers: \n    March Professional Development Opportunity: AGTA and GTAQ Mini Conference\n  This is an amazing opportunity to hear from leading Geography educators and curriculum designers from around the country. The combination of presenters and topics have never before been offered in a PD in Queensland and we would strongly encourage all members and associate members to attend along with anyone responsible for teaching within the Humanities disciplines.\n    Multiple sessions will be offered concurrently.  Please see the attached program for a full outline of the sessions and presenters.\n    Topics covered will include:\n        *             The place of Geography in the Australian Curriculum        \n\n        *             How to think and teach geographically        \n\n        *             Using inquiry methods to increase technical skills and increase intellectual engagement        \n\n        *             Unpacking middle school Geography        \n\n        *             Strategies and practical tips for incorporating field work within classes        \n\n        *             Developing literacy skills through Geography        \n\n        *             ICT in Geography        \n\n        *             Resources for junior and middle school Geography        \n\n        *             Deconstructing the Australian Curriculum Geography achievement standards        \n\n    Please see the attached program for a full outline of the sessions and presenters CLICK HERE\n   Date: 21 March 2015\n    Venue: St Margaret’s Anglican Girls School – 11 Petrie Street\, Ascot\n    Time:8:30 Rego for 9:00am start – Finish 3:00pm\n    Cost: $120 GTAQ members or $140 for non-members\n    RSVP: 16th March 2015 with dietary requirements\n   \n          
DTSTAMP:20190226T190845Z
END:VEVENT
END:VCALENDAR
