BEGIN:VCALENDAR
VERSION:2.0
METHOD:PUBLISH
BEGIN:VEVENT
UID:WILD_APRICOT_EVENT_2150897_SESSION_1
DTSTART:20160225T080000Z
DTEND:20160225T093000Z
SUMMARY:2016 GTAQ AGM
LOCATION:RGSQ - Milton Road\, Milton
DESCRIPTION:http://gtaq.com.au/event-2150897\n\n\n         GTAQ is inviting its members to join us for our 2016 Annual General Meeting.\n     \n  GTAQ Council is always excited to welcome new members to Council. If you would like to nominate for the 2016 Council please print the forms below. All Council members must be a financial INDIVIDUAL member of GTAQ.\n   \n  NOMINATION FORM\n  PROXITY FORM\n  We will be serving some light refreshments at the conclusion of our AGM \n   \n  Looking forward to seeing you then\,\n  GTAQ \n
DTSTAMP:20190226T190708Z
END:VEVENT
END:VCALENDAR
