BEGIN:VCALENDAR
VERSION:2.0
METHOD:PUBLISH
BEGIN:VEVENT
UID:WILD_APRICOT_EVENT_2174689_SESSION_1
DTSTART:20160818T230000Z
DTEND:20160819T030000Z
SUMMARY:Queensland Spatial Educators’ Toolkit Training (Event 3)
LOCATION:The Cathedral School\, Townsville
DESCRIPTION:http://gtaq.com.au/event-2174689\n\nGTAQ and the Queensland Spatial Information Council will be holding a series of workshops across regional Queensland in 2016. The workshops will showcase the Queensland Spatial Educators’ Toolkit for Primary or Secondary teachers who want to start using spatial technologies in the classroom. \n  The workshops cost $10 per person and require participants to bring along a laptop device for the day. \n  Places are capped so be quick!\n  For more information on these events contact Mick on 07 3406 2807 or spatialeducation@qld.gov.au.\n  SEE FLYER \n  \n\n
DTSTAMP:20190226T190533Z
END:VEVENT
END:VCALENDAR
