BEGIN:VCALENDAR
VERSION:2.0
METHOD:PUBLISH
BEGIN:VEVENT
UID:WILD_APRICOT_EVENT_2212552_SESSION_1
DTSTART:20160520T233000Z
DTEND:20160521T043000Z
SUMMARY:Cairns Professional Learning for Secondary Teachers
LOCATION:Cairns State High
DESCRIPTION:http://gtaq.com.au/event-2212552\n\nThe Geography Teachers’ Association of Queensland is offering a professional learning opportunity for teachers from across the Cairns region exploring the effective development of Geography teaching and learning.\n   \n  Join GTAQ representatives exploring quality teaching resources\,\n  Yr 7-12 Geography curriculum development and effective assessment techniques.\n   \n  Secondary Flyer.pdf\n   \n   \n      \n
DTSTAMP:20190226T190616Z
END:VEVENT
END:VCALENDAR
