BEGIN:VCALENDAR
VERSION:2.0
METHOD:PUBLISH
BEGIN:VEVENT
UID:WILD_APRICOT_EVENT_2502200_SESSION_1
DTSTART:20170505T233000Z
DTEND:20170506T030000Z
SUMMARY:Mackay Professional Learning for Secondary Teachers
LOCATION:St Patrick's College\, 2 Gregory St\, Mackay QLD 4740
DESCRIPTION:http://gtaq.com.au/event-2502200\n\nThe Geography Teachers’ Association of Queensland is offering a professional learning opportunity for teachers from across the Mackay region exploring effective teaching and learning in Geography.\n  Join GTAQ representatives to explore quality teaching resources and effective assessment techniques.\n  \n\n  \n\n
DTSTAMP:20190226T190502Z
END:VEVENT
END:VCALENDAR
