BEGIN:VCALENDAR
VERSION:2.0
METHOD:PUBLISH
BEGIN:VEVENT
UID:WILD_APRICOT_EVENT_2519660_SESSION_1
DTSTART:20170728T140000Z
DTEND:20170729T140000Z
SUMMARY:2017 GTAQ Annual Conference Sponsorship
LOCATION:QUT Gardens Point
DESCRIPTION:http://gtaq.com.au/event-2519660\n\n2017 Annual Conference - Sponsorship Opportunities\n  Platinum $5000\n  Gold $1000\n  Silver $500\n  Bronze $300\n \n  Trade Display:\n  Commercial $250\n  Non-commercial/Government $150\n  Not for profit $50\n  Satchel insert only (2 items) $50\n
DTSTAMP:20190226T190442Z
END:VEVENT
END:VCALENDAR
