BEGIN:VCALENDAR
VERSION:2.0
METHOD:PUBLISH
BEGIN:VEVENT
UID:WILD_APRICOT_EVENT_2625867_SESSION_1
DTSTART:20170821T223000Z
DTEND:20170822T050000Z
SUMMARY:The Digital Future of Geography
LOCATION:Canterbury College\, Old Logan Village Road\, Waterford\, Queensland 4133
DESCRIPTION:http://gtaq.com.au/event-2625867\n\nSOLD OUT!\n  No further spots available\n  Professional Learning Day\n  A beginner’s guide to harnessing the latest digital technologies which will create innovative and challenging classroom learning – while also equipping your students for exciting careers in the geospatial industry!\n \n This workshop will introduce you to a range of free geo technologies – including how to:\n      * easily integrate GIS into your classroom\n\n        * use location analytics to make web apps\n\n        * collect meaningful data in the field using your mobile phone!  \n\n  International Guest Speaker\n  Dr. Joseph Kerski Ph.D GISP is the Education Manager for Esri – the world’s leading GIS technology provider!\n  He is a proud geographer\, with a passion for creating engaging enquiry-driven learning activities using digital mapping technology – whether in the classroom\, as a GIS Instructor at a range of universities across the United States or as an author and researcher.\n \n Joseph is in Australia to support the launch of Esri Australia’s GIS for Schools program\, making industry-leading GIS technology freely available to teachers and students! \n  Date: Tuesday 22nd August\, 2017\n \n Time: 8:30am-3:00pm\nLocation: Canterbury College\, Old Logan Village Road\, Waterford\, Queensland 4133\n \n Cost: $100 for GTAQ members\; $120 for non-members  Note: Please bring your own device \nAll attendees will receive copies of AGTA’s Geography Skills Unlocked and Cribb’s ‘The Coming Famine’ valued at over $70.\n \n  Please see the attached flyer for more details:\n  The Digital Future of Geography!\n\n
DTSTAMP:20190226T190421Z
END:VEVENT
END:VCALENDAR
