BEGIN:VCALENDAR
VERSION:2.0
METHOD:PUBLISH
BEGIN:VEVENT
UID:WILD_APRICOT_EVENT_2875428_SESSION_1
DTSTART:20180803T223000Z
DTEND:20180804T073000Z
SUMMARY:SPONSORSHIP GTAQ Annual Conference 2018
LOCATION:University of Queensland
DESCRIPTION:http://gtaq.com.au/event-2875428\n\nSPONSORSHIP PACKAGES\n  PLATINUM - Conference naming rights $5000\n\n  GOLD - Keynote address sponsorship $1000\n  SILVER - Post Conference function sponsor $500 (Silver sponsorship may be taken up by more than one sponsor)\n  BRONZE  - $300 (Bronze sponsorship may be taken up by more than one sponsor)\n  TRADE DISPLAY\n      * Commercial $250\n\n\n        * Non-Commercial/Government $150\n\n\n        * Non-Government Organisation $ 50\n\n\n  SATCHEL INSERT ONLY $50\n
DTSTAMP:20190226T190305Z
END:VEVENT
END:VCALENDAR
