BEGIN:VCALENDAR
VERSION:2.0
METHOD:PUBLISH
BEGIN:VEVENT
UID:WILD_APRICOT_EVENT_2981317_SESSION_1
DTSTART:20180803T220000Z
DTEND:20180804T073000Z
SUMMARY:Conference 2018 IGNITE... the passion for geography
LOCATION:University of Queensland
DESCRIPTION:http://gtaq.com.au/event-2981317\n\n\n\n
DTSTAMP:20190226T190326Z
END:VEVENT
END:VCALENDAR
