BEGIN:VCALENDAR
VERSION:2.0
METHOD:PUBLISH
BEGIN:VEVENT
UID:WILD_APRICOT_EVENT_3077164_SESSION_1
DTSTART:20181018T230000Z
DTEND:20181019T050000Z
SUMMARY:GTAQ+DNRME Spatial Technology Workshop TOWNSVILLE
LOCATION:Ryan Catholic College\, Townsville
DESCRIPTION:http://gtaq.com.au/event-3077164\n\n\n\n
DTSTAMP:20190226T190255Z
END:VEVENT
END:VCALENDAR
