BEGIN:VCALENDAR
VERSION:2.0
METHOD:PUBLISH
BEGIN:VEVENT
UID:WILD_APRICOT_EVENT_676450_SESSION_1
DTSTART:20130509T230000Z
DTEND:20130510T063000Z
SUMMARY:Geography PD Day
LOCATION:St Margaret’s Anglican Girls School\, 11 Petrie Street\, Ascot
DESCRIPTION:http://gtaq.com.au/event-676450\n\n   GEOGRAPHY TEACHERS ARE INVITED TO:\n   \n   \n  Join GTAQ and AGTA (Australian Geography Teachers’ Association) representatives at a Professional Learning Day exploring new developments in this exciting time in Geography.\n   \n  9:30–10:00       Registration\n  10:00–10:45     Using QR codes\n  10:45–11:30     Looking at personal geographies and analysis activities\n  11:30–12:15 Riverine landscapes\n  12:15–1:00 Lunch\n  1:00–1:45 Using e-magazine: ISSUU\n  1:45-2:30 Geography resources and using an IWB in geography\n  2:30–3:00 Afternoon tea\n  3:00 – 4:30 AGTA Session\n   \n  ALL attendees will receive a certificate of participation\n   \n
DTSTAMP:20190226T191140Z
END:VEVENT
END:VCALENDAR
