BEGIN:VCALENDAR
VERSION:2.0
METHOD:PUBLISH
BEGIN:VEVENT
UID:WILD_APRICOT_EVENT_857524_SESSION_1
DTSTART:20140314T230000Z
DTEND:20140315T020000Z
SUMMARY:Developing Effective Assessment
LOCATION:St Margaret's Anglican Girls' School\, 11 Petrie St\, Ascot
DESCRIPTION:http://gtaq.com.au/event-857524\n\nGTAQ invites Geography Teachers to attend a PD morning exploring the development of effective short response tests and reports assessment pieces.\n       Workshop presenters are District and State Panellists\; QSA Representatives and Senior Geography teachers.\n    Wendy Bolton\n  Julie Davis\n  Anne-Marie Gerlach\n  Russell Smerdon\n  Jo MacDonald\n  Jackie Dunk\n       Morning tea will be provided.\n  All attendees will receive a certificate of attendance.\n
DTSTAMP:20190226T191025Z
END:VEVENT
END:VCALENDAR
